BEGIN:VCALENDAR
VERSION:2.0
PRODID:-//ChamberMaster//Event Calendar 2.0//EN
METHOD:PUBLISH
X-PUBLISHED-TTL:P3D
REFRESH-INTERVAL:P3D
CALSCALE:GREGORIAN
BEGIN:VEVENT
DTSTART:20211105T230000Z
DTEND:20211106T030000Z
X-MICROSOFT-CDO-ALLDAYEVENT:FALSE
SUMMARY:Dice and Dreams Casino Night
DESCRIPTION:*Cocktail Reception *Open Bar *Heavy Hors D O'euvres *$10\,000 in Casino Money *Silent Auction 6:00 PM Cocktail Reception Opens 6:45 PM Casino Tables Open 9:45 PM Casino Prizes Awarded
X-ALT-DESC;FMTTYPE=text/html:*Cocktail Reception *Open Bar *Heavy Hors D O&#39\;euvres *$10\,000 in Casino Money *Silent Auction 6:00 PM Cocktail Reception Opens 6:45 PM Casino Tables Open 9:45 PM Casino Prizes Awarded
LOCATION:The Capitol Theatre 110 W Main St\, Lebanon\, TN 37087
UID:e.2544.10286
SEQUENCE:3
DTSTAMP:20260424T142127Z
URL:https://business.mjchamber.org/events/details/dice-and-dreams-casino-night-11-05-2021-10286
END:VEVENT

END:VCALENDAR
