BEGIN:VCALENDAR
VERSION:2.0
PRODID:-//ChamberMaster//Event Calendar 2.0//EN
METHOD:PUBLISH
X-PUBLISHED-TTL:P3D
REFRESH-INTERVAL:P3D
CALSCALE:GREGORIAN
BEGIN:VEVENT
DTSTART:20211016T150000Z
DTEND:20211016T200000Z
X-MICROSOFT-CDO-ALLDAYEVENT:FALSE
SUMMARY:DOGgonne Good OLD Time
DESCRIPTION:Join Old Friends Senior Dog Sanctuary for our annual DOGgone Good OLD Time event at Charlie Daniels Park in Mount Juliet\, TN. We will have food\, music\, vendors\, and DOGS! Bring your dog(s) and the whole family for a DOGgone good OLD time!
X-ALT-DESC;FMTTYPE=text/html:<span style="color:rgb(5\, 5\, 5)\; font-family:segoe ui historic\,segoe ui\,helvetica\,arial\,sans-serif\; font-size:15px">Join Old Friends Senior Dog Sanctuary for our annual DOGgone Good OLD Time event at Charlie Daniels Park in Mount Juliet\, TN. We will have food\, music\, vendors\, and DOGS! Bring your dog(s) and the whole family for a DOGgone good OLD time!</span>
LOCATION:Charlie Daniels Park\, Mount Juliet\, TN 37122
UID:e.2544.10220
SEQUENCE:3
DTSTAMP:20260424T161433Z
URL:https://business.mjchamber.org/events/details/doggonne-good-old-time-10220
END:VEVENT

END:VCALENDAR
