BEGIN:VCALENDAR
VERSION:2.0
PRODID:-//ChamberMaster//Event Calendar 2.0//EN
METHOD:PUBLISH
X-PUBLISHED-TTL:P3D
REFRESH-INTERVAL:P3D
CALSCALE:GREGORIAN
BEGIN:VEVENT
DTSTART:20220507T220000Z
DTEND:20220508T030000Z
X-MICROSOFT-CDO-ALLDAYEVENT:FALSE
SUMMARY:Ducky Derby
DESCRIPTION:Ducky Derby tickets on sale beginning March 1\, 2022.  Tickets are $10 each for a chance to win up to $10\,000.  Ducky Derby event to be held on May 7 from 5PM-10PM at the Moore home located at 3395 Lebanon Rd. Ducks will be drawn that evening out of the pool for 1st\, 2nd and 3rd Place and Winner of Best Hat Contest named.  Event to benefit the Wilson County Community Help Center.
X-ALT-DESC;FMTTYPE=text/html:Ducky Derby tickets on sale beginning March 1\, 2022.&nbsp\; Tickets are $10 each for a chance to win up to $10\,000.&nbsp\; Ducky Derby event to be held on May 7 from 5PM-10PM at the Moore home located at 3395 Lebanon Rd. Ducks will be drawn that evening out of the pool for 1st\, 2nd and 3rd Place and Winner of Best Hat Contest named.&nbsp\; Event to benefit the Wilson County Community Help Center.&nbsp\;&nbsp\;
LOCATION:3395 Lebanon Rd.
UID:e.2544.10896
SEQUENCE:3
DTSTAMP:20260424T025313Z
URL:https://business.mjchamber.org/events/details/ducky-derby-05-07-2022-10896
END:VEVENT

END:VCALENDAR
