BEGIN:VCALENDAR
VERSION:2.0
PRODID:-//ChamberMaster//Event Calendar 2.0//EN
METHOD:PUBLISH
X-PUBLISHED-TTL:P3D
REFRESH-INTERVAL:P3D
CALSCALE:GREGORIAN
BEGIN:VEVENT
DTSTART:20220416T150000Z
DTEND:20220416T170000Z
X-MICROSOFT-CDO-ALLDAYEVENT:FALSE
SUMMARY:Easter Egg Hunt
DESCRIPTION:Hickory Grove Church Easter Egg Hunt 2022 Join the fun with the whole family! Rain or Shine Come and go as you please. Activities will include: Egg Hunt\, Crafts\, Games\, Music and Story Time.
X-ALT-DESC;FMTTYPE=text/html:Hickory Grove Church Easter Egg Hunt 2022 Join the fun with the whole family! Rain or Shine Come and go as you please. Activities will include: Egg Hunt\, Crafts\, Games\, Music and Story Time.
LOCATION:Hickory Grove Church 84 South Greenhill Rd Mt Juliet\, TN
UID:e.2544.10972
SEQUENCE:3
DTSTAMP:20260424T050134Z
URL:https://business.mjchamber.org/events/details/easter-egg-hunt-04-16-2022-10972
END:VEVENT

END:VCALENDAR
