BEGIN:VCALENDAR
VERSION:2.0
PRODID:-//ChamberMaster//Event Calendar 2.0//EN
METHOD:PUBLISH
X-PUBLISHED-TTL:P3D
REFRESH-INTERVAL:P3D
CALSCALE:GREGORIAN
BEGIN:VEVENT
DTSTART:20120331T143000Z
DTEND:20120331T160000Z
X-MICROSOFT-CDO-ALLDAYEVENT:FALSE
SUMMARY:Easter Eggstravaganza
DESCRIPTION:Grace UMC Welcomes you March 31st\, 9:30am-11am\, for a FREE family fun Easter Eggstravaganza! Join us for a continental breakfast\, live petting zoo\, huge egg hunt by age groups\, magician\, balloon artist\, crafts\, and a raffle with prizes!
X-ALT-DESC;FMTTYPE=text/html:Grace UMC Welcomes you March 31st\, 9:30am-11am\, for a FREE family fun Easter Eggstravaganza! Join us for a continental breakfast\, live petting zoo\, huge egg hunt by age groups\, magician\, balloon artist\, crafts\, and a raffle with prizes!
LOCATION:2905 N. Mt. Juliet Rd.\, Mt. Juliet\, TN 37122 2905 N. Mt. Juliet Road
UID:e.2544.251
SEQUENCE:3
DTSTAMP:20260419T213342Z
URL:https://business.mjchamber.org/events/details/easter-eggstravaganza-03-31-2012-251
END:VEVENT

END:VCALENDAR
