BEGIN:VCALENDAR
VERSION:2.0
PRODID:-//ChamberMaster//Event Calendar 2.0//EN
METHOD:PUBLISH
X-PUBLISHED-TTL:P3D
REFRESH-INTERVAL:P3D
CALSCALE:GREGORIAN
BEGIN:VEVENT
DTSTART:20220416T150000Z
DTEND:20220416T220000Z
X-MICROSOFT-CDO-ALLDAYEVENT:FALSE
SUMMARY:Easter Spring Fling at The Basement Marketplace
DESCRIPTION:Join us for our Spring Fling! We will have an egg hunt in the field (weather permitting) for ages 10 and under starting at 10:30. There will be an egg hunt indoors for adults. The adult eggs will have an item or a coupon/gift certificate inside and eggs will be hidden throughout the day. We will have vendors set up along the back of the building to engage with customers along with our mobile boutiques and plant bus. Many of our vendors will be offering sales as well. Stop by and join us for a fun family day!
X-ALT-DESC;FMTTYPE=text/html:Join us for our Spring Fling! We will have an egg hunt in the field (weather permitting) for ages 10 and under starting at 10:30. There will be an egg hunt indoors for adults. The adult eggs will have an item or a coupon/gift certificate inside and eggs will be hidden throughout the day. We will have vendors set up along the back of the building to engage with customers along with our mobile boutiques and plant bus. Many of our vendors will be offering sales as well. Stop by and join us for a fun family day!
LOCATION:The Basement Marketplace 14625 Lebanon Rd Old Hickory\, TN 37138
UID:e.2544.10982
SEQUENCE:3
DTSTAMP:20260424T050643Z
URL:https://business.mjchamber.org/events/details/easter-spring-fling-at-the-basement-marketplace-10982
END:VEVENT

END:VCALENDAR
