BEGIN:VCALENDAR
VERSION:2.0
PRODID:-//ChamberMaster//Event Calendar 2.0//EN
METHOD:PUBLISH
X-PUBLISHED-TTL:P3D
REFRESH-INTERVAL:P3D
CALSCALE:GREGORIAN
BEGIN:VEVENT
DTSTART:20271006T183000Z
DTEND:20271006T203000Z
X-MICROSOFT-CDO-ALLDAYEVENT:FALSE
SUMMARY:ECD & Gov't Engagement Mtg (2-3)
DESCRIPTION:
X-ALT-DESC;FMTTYPE=text/html:
LOCATION:
UID:e.2544.14043
SEQUENCE:3
DTSTAMP:20260420T020055Z
URL:https://business.mjchamber.org/events/details/ecd-gov-t-engagement-mtg-2-3-10-06-2027-14043
END:VEVENT

END:VCALENDAR
