BEGIN:VCALENDAR
VERSION:2.0
PRODID:-//ChamberMaster//Event Calendar 2.0//EN
METHOD:PUBLISH
X-PUBLISHED-TTL:P3D
REFRESH-INTERVAL:P3D
CALSCALE:GREGORIAN
BEGIN:VEVENT
DTSTART:20210830T160000Z
DTEND:20210830T230000Z
X-MICROSOFT-CDO-ALLDAYEVENT:FALSE
SUMMARY:Empower Me Center Driving for Dream Charity Golf Classic
DESCRIPTION:Includes *Lunch *18 Holes of Golf *Range Balls *Awards Reception *Golfers Gift *Silent Auction All proceeds benefit Empower Me Center. EMC is dedicated to meeting the needs of individuals with disabilities in Middle Tennessee.
X-ALT-DESC;FMTTYPE=text/html:Includes *Lunch *18 Holes of Golf *Range Balls *Awards Reception *Golfers Gift *Silent Auction All proceeds benefit Empower Me Center. EMC is dedicated to meeting the needs of individuals with disabilities in Middle Tennessee.
LOCATION:Pine Creek Golf Course 1835 Logue Road Mt. Juliet\, TN 37122
UID:e.2544.10104
SEQUENCE:3
DTSTAMP:20260424T182211Z
URL:https://business.mjchamber.org/events/details/empower-me-center-driving-for-dream-charity-golf-classic-10104
END:VEVENT

END:VCALENDAR
