BEGIN:VCALENDAR
VERSION:2.0
PRODID:-//ChamberMaster//Event Calendar 2.0//EN
METHOD:PUBLISH
X-PUBLISHED-TTL:P3D
REFRESH-INTERVAL:P3D
CALSCALE:GREGORIAN
BEGIN:VEVENT
DTSTART:20210920T120000Z
DTEND:20210921T000000Z
X-MICROSOFT-CDO-ALLDAYEVENT:FALSE
SUMMARY:Empower Me Center Shelby Hickman Golf Sramble
DESCRIPTION:7:00 AM - Check-in Cart-side & Driving Range Open 8:00 AM - Session One Shotgun Start 11:00AM - 1:00 PM - Lunch | Check-in Cart-side & Driving Range 1:00 PM - Session Two Shotgun Start Awards Presentation immediately following the afternoon round 6:00 PM - Celebration Dinner & Live Auction on Patio
X-ALT-DESC;FMTTYPE=text/html:7:00 AM - Check-in Cart-side &amp\; Driving Range Open 8:00 AM - Session One Shotgun Start 11:00AM - 1:00 PM - Lunch | Check-in Cart-side &amp\; Driving Range 1:00 PM - Session Two Shotgun Start Awards Presentation immediately following the afternoon round 6:00 PM - Celebration Dinner &amp\; Live Auction on Patio
LOCATION:Old Hickory Country Club 1904 Hadley Avenue Old Hickory\, TN 37138
UID:e.2544.10183
SEQUENCE:3
DTSTAMP:20260424T175745Z
URL:https://business.mjchamber.org/events/details/empower-me-center-shelby-hickman-golf-sramble-10183
END:VEVENT

END:VCALENDAR
