BEGIN:VCALENDAR
VERSION:2.0
PRODID:-//ChamberMaster//Event Calendar 2.0//EN
METHOD:PUBLISH
X-PUBLISHED-TTL:P3D
REFRESH-INTERVAL:P3D
CALSCALE:GREGORIAN
BEGIN:VEVENT
DTSTART:20120406T120000Z
DTEND:20120407T210000Z
X-MICROSOFT-CDO-ALLDAYEVENT:FALSE
SUMMARY:Estate Sale
DESCRIPTION:We are having an Estate Sale at 111 Due West Drive on Friday and Saturday\, April 6th and 7th.  Some items for sale are:  sofas\, small tables\, dining table with china cabinet\, depression glass\, carnival glass\, and lots more.
X-ALT-DESC;FMTTYPE=text/html:We are having an Estate Sale at 111 Due West Drive on Friday and Saturday\, April 6th and 7th.  Some items for sale are:  sofas\, small tables\, dining table with china cabinet\, depression glass\, carnival glass\, and lots more.
LOCATION:111 Due West Drive\, Mount Juliet\, TN 37122 Due West Drive is off of N. Mt. Juliet Rd\, right across from the Public Library.
UID:e.2544.263
SEQUENCE:3
DTSTAMP:20260419T200753Z
URL:https://business.mjchamber.org/events/details/estate-sale-04-06-2012-263
END:VEVENT

END:VCALENDAR
