BEGIN:VCALENDAR
VERSION:2.0
PRODID:-//ChamberMaster//Event Calendar 2.0//EN
METHOD:PUBLISH
X-PUBLISHED-TTL:P3D
REFRESH-INTERVAL:P3D
CALSCALE:GREGORIAN
BEGIN:VEVENT
DTSTART:20111001T200000Z
DTEND:20111001T230000Z
X-MICROSOFT-CDO-ALLDAYEVENT:FALSE
SUMMARY:Fall Festival
DESCRIPTION:The Falls @ 109 will be hosting a FREE Fall Festival! We will have games\, prizes\, hot dogs\, popcorn\, and a bounce house! This will be a very fun event to bring the family to and it is FREE!\nFor directions\, visit www.fallsat109.com or call 615-444-0134. \nSee you there!
X-ALT-DESC;FMTTYPE=text/html:The Falls @ 109 will be hosting a FREE Fall Festival! We will have games\, prizes\, hot dogs\, popcorn\, and a bounce house! This will be a very fun event to bring the family to and it is FREE!\nFor directions\, visit www.fallsat109.com or call 615-444-0134. \nSee you there!
LOCATION:100 Falls Boulevard\, Lebanon\, TN 37090 100 Falls Boulevard\, Lebanon TN 37090 - in the front parking lot.
UID:e.2544.116
SEQUENCE:3
DTSTAMP:20260420T063157Z
URL:https://business.mjchamber.org/events/details/fall-festival-10-01-2011-116
END:VEVENT

END:VCALENDAR
