BEGIN:VCALENDAR
VERSION:2.0
PRODID:-//ChamberMaster//Event Calendar 2.0//EN
METHOD:PUBLISH
X-PUBLISHED-TTL:P3D
REFRESH-INTERVAL:P3D
CALSCALE:GREGORIAN
BEGIN:VEVENT
DTSTART:20211202T150000Z
DTEND:20211203T020000Z
X-MICROSOFT-CDO-ALLDAYEVENT:FALSE
SUMMARY:Fill Sherry's Moving Truck With Toys
DESCRIPTION:Fill Sherry's Moving Truck With Toys December 2nd Mullins Realty Group will be taking donations starting at 9 am followed by a party at 5:30 that evening. Donations go to Give A Little Christmas to help local kids have Christmas gifts. There will be live music provided by Olivia West\, Sherry Mullins\, Rachel Mullins\, and more. Snacks and drinks provided. Christmas cookies provided by Sweet Family Robinson's Bakery.
X-ALT-DESC;FMTTYPE=text/html:Fill Sherry&#39\;s Moving Truck With Toys December 2nd Mullins Realty Group will be taking donations starting at 9 am followed by a party at 5:30 that evening. Donations go to Give A Little Christmas to help local kids have Christmas gifts. There will be live music provided by Olivia West\, Sherry Mullins\, Rachel Mullins\, and more. Snacks and drinks provided. Christmas cookies provided by Sweet Family Robinson&#39\;s Bakery.
LOCATION:Mullins Realty Group 2323 N Mt Juliet Rd
UID:e.2544.10627
SEQUENCE:3
DTSTAMP:20260424T155946Z
URL:https://business.mjchamber.org/events/details/fill-sherry-s-moving-truck-with-toys-10627
END:VEVENT

END:VCALENDAR
