BEGIN:VCALENDAR
VERSION:2.0
PRODID:-//ChamberMaster//Event Calendar 2.0//EN
METHOD:PUBLISH
X-PUBLISHED-TTL:P3D
REFRESH-INTERVAL:P3D
CALSCALE:GREGORIAN
BEGIN:VEVENT
DTSTART:20220730T150000Z
DTEND:20220730T190000Z
X-MICROSOFT-CDO-ALLDAYEVENT:FALSE
SUMMARY:Fill the Bus
DESCRIPTION:Help us help the children of Wilson County by getting supplies!! We will be at Walmart from 10-2 collecting items!
X-ALT-DESC;FMTTYPE=text/html:Help us help the children of Wilson County by getting supplies!! We will be at Walmart from 10-2 collecting items!
LOCATION:Walmart Mt. Juliet
UID:e.2544.11701
SEQUENCE:3
DTSTAMP:20260423T231506Z
URL:https://business.mjchamber.org/events/details/fill-the-bus-11701
END:VEVENT

END:VCALENDAR
