BEGIN:VCALENDAR
VERSION:2.0
PRODID:-//ChamberMaster//Event Calendar 2.0//EN
METHOD:PUBLISH
X-PUBLISHED-TTL:P3D
REFRESH-INTERVAL:P3D
CALSCALE:GREGORIAN
BEGIN:VEVENT
DTSTART:20150724T160000Z
DTEND:20150724T170000Z
X-MICROSOFT-CDO-ALLDAYEVENT:FALSE
SUMMARY:Financing the SBA Way Workshop
DESCRIPTION:Join us for this upcoming Volunteer State Community College's Tennessee Small Business Development Center's training event! The topic for this workshop is "Financing the SBA Way." This workshop is free\, and registration is required.Register online at www.tsbdc.org.
X-ALT-DESC;FMTTYPE=text/html:<p>Join us for this upcoming Volunteer State Community College's&nbsp\;Tennessee Small Business Development Center's&nbsp\;training event! The topic for this&nbsp\;workshop is "Financing the SBA Way." This workshop is free\, and registration is required.</p><p>Register online at <a href="http://www.tsbdc.org">www.tsbdc.org</a>. </p>
LOCATION:Volunteer State Community College 1480 Nashville Pike\, Gallatin\, TN 37066 Building 300
UID:e.2544.1319
SEQUENCE:3
DTSTAMP:20260420T090001Z
URL:https://business.mjchamber.org/events/details/financing-the-sba-way-workshop-07-24-2015-1319
END:VEVENT

END:VCALENDAR
