BEGIN:VCALENDAR
VERSION:2.0
PRODID:-//ChamberMaster//Event Calendar 2.0//EN
METHOD:PUBLISH
X-PUBLISHED-TTL:P3D
REFRESH-INTERVAL:P3D
CALSCALE:GREGORIAN
BEGIN:VEVENT
DTSTART:20210911T133000Z
DTEND:20210911T230000Z
X-MICROSOFT-CDO-ALLDAYEVENT:FALSE
SUMMARY:First Responder Alpha Games
DESCRIPTION:First responders from Wilson\, Macon\, Smith\, Sumner\, and Trousdale counties will square off in competitions. Contests range from high octane obstacle courses\, fitness challenges\, and vocation-specific skill contests\, to good natured checkers and corn hole games. Visitors can also enjoy demonstrations\, food trucks\, a dessert tent\, artisans\, and vendors. Come show your support for these heroes! There's something for everyone!
X-ALT-DESC;FMTTYPE=text/html:First responders from Wilson\, Macon\, Smith\, Sumner\, and Trousdale counties will square off in competitions. Contests range from high octane obstacle courses\, fitness challenges\, and vocation-specific skill contests\, to good natured checkers and corn hole games. Visitors can also enjoy demonstrations\, food trucks\, a dessert tent\, artisans\, and vendors. Come show your support for these heroes! There&rsquo\;s something for everyone!
LOCATION:Trey Park in Hartsville\, TN - 265 Marlene St. / Hartsville\, TN/ 37074
UID:e.2544.10142
SEQUENCE:3
DTSTAMP:20260424T175447Z
URL:https://business.mjchamber.org/events/details/first-responder-alpha-games-10142
END:VEVENT

END:VCALENDAR
