BEGIN:VCALENDAR
VERSION:2.0
PRODID:-//ChamberMaster//Event Calendar 2.0//EN
METHOD:PUBLISH
X-PUBLISHED-TTL:P3D
REFRESH-INTERVAL:P3D
CALSCALE:GREGORIAN
BEGIN:VEVENT
DTSTART:20120504T160000Z
DTEND:20120504T190000Z
X-MICROSOFT-CDO-ALLDAYEVENT:FALSE
SUMMARY:FirstBank Open House
DESCRIPTION:Come meet our new FirstBank family members!\nOpen house from 11am until 2pm\nat FirstBank\nMt. Juliet - Creekside Office (next to ACE Hardware)\nFood provided by:\nTokyo Japanese Restaurant\nShort Cakes Cakery
X-ALT-DESC;FMTTYPE=text/html:Come meet our new FirstBank family members!\nOpen house from 11am until 2pm\nat FirstBank\nMt. Juliet - Creekside Office (next to ACE Hardware)\nFood provided by:\nTokyo Japanese Restaurant\nShort Cakes Cakery
LOCATION:4110 N. Mt. Juliet Rd\, Mt. Juliet\, TN 37122 FirstBank Mt. Juliet - Creekside Office (next to ACE Hardware)
UID:e.2544.271
SEQUENCE:3
DTSTAMP:20260419T181302Z
URL:https://business.mjchamber.org/events/details/firstbank-open-house-05-04-2012-271
END:VEVENT

END:VCALENDAR
