BEGIN:VCALENDAR
VERSION:2.0
PRODID:-//ChamberMaster//Event Calendar 2.0//EN
METHOD:PUBLISH
X-PUBLISHED-TTL:P3D
REFRESH-INTERVAL:P3D
CALSCALE:GREGORIAN
BEGIN:VEVENT
DTSTART:20211013T140000Z
DTEND:20211013T170000Z
X-MICROSOFT-CDO-ALLDAYEVENT:FALSE
SUMMARY:FREE BASIC COMPUTER TRAINING
DESCRIPTION:Goodwill Career Solutions will conduct a free Basic Digital Literacy and Resume Class from 9 a.m.- 12 p.m. on Wednesday\, Oct. 13\, at the 1985 Providence Pkwy in Mt. Juliet. Participants must pre-register by visiting www.giveit2goodwill.org/digital-literacy or calling (615) 288-2389.
X-ALT-DESC;FMTTYPE=text/html:Goodwill Career Solutions will conduct a free Basic Digital Literacy and Resume Class from 9 a.m.- 12 p.m. on Wednesday\, Oct. 13\, at the 1985 Providence Pkwy in Mt. Juliet. Participants must pre-register by visiting www.giveit2goodwill.org/digital-literacy or calling (615) 288-2389.
LOCATION:1985 Providence Pkwy in Mt. Juliet\, TN 37122
UID:e.2544.10299
SEQUENCE:3
DTSTAMP:20260424T161223Z
URL:https://business.mjchamber.org/events/details/free-basic-computer-training-10299
END:VEVENT

END:VCALENDAR
