BEGIN:VCALENDAR
VERSION:2.0
PRODID:-//ChamberMaster//Event Calendar 2.0//EN
METHOD:PUBLISH
X-PUBLISHED-TTL:P3D
REFRESH-INTERVAL:P3D
CALSCALE:GREGORIAN
BEGIN:VEVENT
DTSTART:20210610T140000Z
DTEND:20210610T200000Z
X-MICROSOFT-CDO-ALLDAYEVENT:FALSE
SUMMARY:Goodwill Hiring Event for Amazon
DESCRIPTION:Goodwill will host a hiring event for Amazon\, which is seeking to fill 250 positions\, from 9 am to 3 pm on Thursday\, June 10th\, at the Goodwill Career Solutions Center at 1985 Providence Parkway in Mt. Juliet. -- Job-seekers are encouraged to pre-register for the event by visiting https://bit.ly/3dcFzLk or calling (615)288-2389.
X-ALT-DESC;FMTTYPE=text/html:Goodwill will host a hiring event for Amazon\, which is seeking to fill 250 positions\, from 9 am to 3 pm on Thursday\, June 10th\, at the Goodwill Career Solutions Center at 1985 Providence Parkway in Mt. Juliet. -- Job-seekers are encouraged to pre-register for the event by visiting https://bit.ly/3dcFzLk or calling (615)288-2389.
LOCATION:1985 Providence Parkway in Mt. Juliet
UID:e.2544.10046
SEQUENCE:3
DTSTAMP:20260424T145613Z
URL:https://business.mjchamber.org/events/details/goodwill-hiring-event-for-amazon-06-10-2021-10046
END:VEVENT

END:VCALENDAR
