BEGIN:VCALENDAR
VERSION:2.0
PRODID:-//ChamberMaster//Event Calendar 2.0//EN
METHOD:PUBLISH
X-PUBLISHED-TTL:P3D
REFRESH-INTERVAL:P3D
CALSCALE:GREGORIAN
BEGIN:VEVENT
DTSTART:20110611T150000Z
DTEND:20110611T180000Z
X-MICROSOFT-CDO-ALLDAYEVENT:FALSE
SUMMARY:Grand Opening Celebration @ Regions Providence
DESCRIPTION:Excitement is building and we want you along for the ride! \n\nActivities will include a Moonwalk for the kids\, free child ID kits from local police department\, Chick-fil-A cow\, Tugboat the Clown\, Free food & drinks. \n\nEnter to win a $150 gas card!
X-ALT-DESC;FMTTYPE=text/html:Excitement is building and we want you along for the ride! \n\nActivities will include a Moonwalk for the kids\, free child ID kits from local police department\, Chick-fil-A cow\, Tugboat the Clown\, Free food & drinks. \n\nEnter to win a $150 gas card!\n
LOCATION:301 Providence West Blvd.\, Mt. Juliet\, TN 37122 Right across the street from Holiday Inn Express Hotel & Suites
UID:e.2544.31
SEQUENCE:3
DTSTAMP:20260422T085653Z
URL:https://business.mjchamber.org/events/details/grand-opening-celebration-regions-providence-06-11-2011-31
END:VEVENT

END:VCALENDAR
