BEGIN:VCALENDAR
VERSION:2.0
PRODID:-//ChamberMaster//Event Calendar 2.0//EN
METHOD:PUBLISH
X-PUBLISHED-TTL:P3D
REFRESH-INTERVAL:P3D
CALSCALE:GREGORIAN
BEGIN:VEVENT
DTSTART:20210923T200000Z
DTEND:20210923T210000Z
X-MICROSOFT-CDO-ALLDAYEVENT:FALSE
SUMMARY:Grow with Google-Reach Customers Online With Google
DESCRIPTION:Grow with Google-Reach Customers Online With Google\n\n\n\nClick here to register\n\n\n\nLearn how customers find your business online and how to promote your business using Search Engine Optimization (SEO) and Smart Campaigns in Google Ads. In this live webinar\, I will discuss best practices for:\n\n  Improving your website's visibility in Google's organic search results\, on all devices\n\n  Creating a free Google My Business listing\n\n  Advertising your business on Go
X-ALT-DESC;FMTTYPE=text/html:<strong><span style="font-size:14px\;"><span style="font-family:verdana\;">Grow with Google-Reach Customers Online With Google</span></span></strong><br />\n<br />\n<a href="https://register.gotowebinar.com/register/6300885940453374733" target="_blank"><strong><span style="color:#0000CD\;"><span style="font-size:14px\;"><span style="font-family:verdana\;">Click here to register</span></span></span></strong></a><br />\n<br />\n<span style="font-family:verdana\;"><span style="font-size:14px\;"><span style="white-space: pre-wrap\;">Learn how customers find your business online and how to promote your business using Search Engine Optimization (SEO) and Smart Campaigns in Google Ads. In this live webinar\, I will discuss best practices for:<br />\n&bull\; Improving your website&rsquo\;s visibility in Google&rsquo\;s organic search results\, on all devices<br />\n&bull\; Creating a free Google My Business listing<br />\n&bull\; Advertising your business on Go</span></span></span>\n<div>&nbsp\;</div>\n
LOCATION:
UID:e.2544.10212
SEQUENCE:3
DTSTAMP:20260424T175658Z
URL:https://business.mjchamber.org/events/details/grow-with-google-reach-customers-online-with-google-10212
END:VEVENT

END:VCALENDAR
