BEGIN:VCALENDAR
VERSION:2.0
PRODID:-//ChamberMaster//Event Calendar 2.0//EN
METHOD:PUBLISH
X-PUBLISHED-TTL:P3D
REFRESH-INTERVAL:P3D
CALSCALE:GREGORIAN
BEGIN:VEVENT
DTSTART:20211030T133000Z
DTEND:20211030T173000Z
X-MICROSOFT-CDO-ALLDAYEVENT:FALSE
SUMMARY:Halloween 5K 4 Hope & Parkinsons Fun Walk
DESCRIPTION:Race benefits MJ 4 Hope and\, Peterson Foundation for Parkinson's 8:30 am Registration Opens 10:00am - 5k 10:15 am - Fun walk 11:00 am - Trick or treat for participating kids For more information go to MJ4Hope.org
X-ALT-DESC;FMTTYPE=text/html:Race benefits MJ 4 Hope and\, Peterson Foundation for Parkinson&#39\;s 8:30 am Registration Opens 10:00am - 5k 10:15 am - Fun walk 11:00 am - Trick or treat for participating kids For more information go to MJ4Hope.org
LOCATION:Charlie Daniels Park 1025 Charlie Daniels Parkway Mt Juliet TN 37122
UID:e.2544.10351
SEQUENCE:3
DTSTAMP:20260424T161640Z
URL:https://business.mjchamber.org/events/details/halloween-5k-4-hope-parkinsons-fun-walk-10351
END:VEVENT

END:VCALENDAR
