BEGIN:VCALENDAR
VERSION:2.0
PRODID:-//ChamberMaster//Event Calendar 2.0//EN
METHOD:PUBLISH
X-PUBLISHED-TTL:P3D
REFRESH-INTERVAL:P3D
CALSCALE:GREGORIAN
BEGIN:VEVENT
DTSTART:20111023T210000Z
DTEND:20111023T230000Z
X-MICROSOFT-CDO-ALLDAYEVENT:FALSE
SUMMARY:Harvest Celebration
DESCRIPTION:FREE Annual Harvest Celebration!\nOctober 23\, 2011\, 4-6pm\n\nJoin us for family fun: Candy\, Food\, Crafts\, Games\, Chili Cook-off\, Hayride to Pumpkin Patch\, Pumpkin Carving Contest\, Bonfire with S'mores and more!!!\n\nGrace United Methodist Church\n2905 North Mount Juliet Road\nMt. Juliet\, TN 37122\n615-754-6034\nwww.graceumc.net
X-ALT-DESC;FMTTYPE=text/html:FREE Annual Harvest Celebration!\nOctober 23\, 2011\, 4-6pm\n\nJoin us for family fun: Candy\, Food\, Crafts\, Games\, Chili Cook-off\, Hayride to Pumpkin Patch\, Pumpkin Carving Contest\, Bonfire with S'mores and more!!!\n\nGrace United Methodist Church\n2905 North Mount Juliet Road\nMt. Juliet\, TN 37122\n615-754-6034\nwww.graceumc.net 
LOCATION:2905 North Mount Juliet Road\, Mt. Juliet\, TN 37122 Grace United Methodist Church 2905 North Mount Juliet Road Mt. Juliet\, TN 37122
UID:e.2544.135
SEQUENCE:3
DTSTAMP:20260420T063119Z
URL:https://business.mjchamber.org/events/details/harvest-celebration-10-23-2011-135
END:VEVENT

END:VCALENDAR
