BEGIN:VCALENDAR
VERSION:2.0
PRODID:-//ChamberMaster//Event Calendar 2.0//EN
METHOD:PUBLISH
X-PUBLISHED-TTL:P3D
REFRESH-INTERVAL:P3D
CALSCALE:GREGORIAN
BEGIN:VEVENT
DTSTART:20120315T223000Z
DTEND:20120316T003000Z
X-MICROSOFT-CDO-ALLDAYEVENT:FALSE
SUMMARY:Health Fair @ the Deerfield Providence
DESCRIPTION:The Health Fair will be located in the Club House at Deerfield.  We will have local vendors doing hands on screening which includes:\nSpinal Screening by Active Life Chiropractic & Rehab\nBlood Pressure by Summit Hospital\nChair Massage by Olinda Jones\nSign up for soccer by YMCA\nVision & Glaucoma Testing by Precision Eye Care\nSkin care- by Arbonne\nFREE FRUIT SMOOTHIES\nTOP TEN will be there selling Sandwich\, chips\, and drink for $5.00
X-ALT-DESC;FMTTYPE=text/html:The Health Fair will be located in the Club House at Deerfield.  We will have local vendors doing hands on screening which includes:\nSpinal Screening by Active Life Chiropractic & Rehab\nBlood Pressure by Summit Hospital\nChair Massage by Olinda Jones\nSign up for soccer by YMCA\nVision & Glaucoma Testing by Precision Eye Care\nSkin care- by Arbonne\nFREE FRUIT SMOOTHIES\nTOP TEN will be there selling Sandwich\, chips\, and drink for $5.00\n
LOCATION:2000 Buckhead Trail \, Mt. Juliet\, TN 37122 Located behind Providence
UID:e.2544.250
SEQUENCE:3
DTSTAMP:20260419T213812Z
URL:https://business.mjchamber.org/events/details/health-fair-the-deerfield-providence-03-15-2012-250
END:VEVENT

END:VCALENDAR
