BEGIN:VCALENDAR
VERSION:2.0
PRODID:-//ChamberMaster//Event Calendar 2.0//EN
METHOD:PUBLISH
X-PUBLISHED-TTL:P3D
REFRESH-INTERVAL:P3D
CALSCALE:GREGORIAN
BEGIN:VEVENT
DTSTART:20120215T160000Z
DTEND:20120215T190000Z
X-MICROSOFT-CDO-ALLDAYEVENT:FALSE
SUMMARY:Health Fair @ the YMCA Donaldson/Hermitage
DESCRIPTION:The upcoming Health Fair sponsered by Active Life and the YMCA will be an active event by hands on demonstrations and various health booths.  We are excited to see the community interested in learning about a healthier lifestyle. \nVendors Attending: \n*Active Life- Free fruit smoothies\, Bio-freeze\, spinal screenings and Free 1st time visit with a $10 donation to the YMCA\n*YMCA Wellness Team- Physical Fit Testing\n*Summit Walk-in Clinic- Blood Sugar Testing\n*Target Pharmacy- Questions\n*Olinda Jones- Massage Therapist\n*World Champion Productions- Dance Classes\n*Tim Foster & Jon Baese DDS- Complimentary Dental Supplies and questions\nAND MUCH MORE
X-ALT-DESC;FMTTYPE=text/html:The upcoming Health Fair sponsered by Active Life and the YMCA will be an active event by hands on demonstrations and various health booths.  We are excited to see the community interested in learning about a healthier lifestyle. \nVendors Attending: \n*Active Life- Free fruit smoothies\, Bio-freeze\, spinal screenings and Free 1st time visit with a $10 donation to the YMCA\n*YMCA Wellness Team- Physical Fit Testing\n*Summit Walk-in Clinic- Blood Sugar Testing\n*Target Pharmacy- Questions\n*Olinda Jones- Massage Therapist\n*World Champion Productions- Dance Classes\n*Tim Foster & Jon Baese DDS- Complimentary Dental Supplies and questions\nAND MUCH MORE
LOCATION:3001 Lebanon Pike\, Nashville\, TN 37076 YMCA of Donaldson and Hermitage (615) 889-2632
UID:e.2544.223
SEQUENCE:3
DTSTAMP:20260420T011451Z
URL:https://business.mjchamber.org/events/details/health-fair-the-ymca-donaldson-hermitage-02-15-2012-223
END:VEVENT

END:VCALENDAR
