BEGIN:VCALENDAR
VERSION:2.0
PRODID:-//ChamberMaster//Event Calendar 2.0//EN
METHOD:PUBLISH
X-PUBLISHED-TTL:P3D
REFRESH-INTERVAL:P3D
CALSCALE:GREGORIAN
BEGIN:VEVENT
DTSTART:20120627T210000Z
DTEND:20120627T230000Z
X-MICROSOFT-CDO-ALLDAYEVENT:FALSE
SUMMARY:Healthy Kids Fair
DESCRIPTION:FREE and open to the public! Entertainment\, Games and Prizes!!! Grand Prize-Bicycle and Helmet.\nMJ Fire and Police Departments will be answering questions and MJPD will be giving out packets for child identification.\nInformation and free screenings provided by:\nCentennial Pediatrics\, Precision Eye Care\, Snodgrass & King Dental\, TN Sports Medicine\, Optimal Health Chiropractic\, Amerigroup\, Allergy\, Asthma and Sinus Center and more!
X-ALT-DESC;FMTTYPE=text/html:FREE and open to the public! Entertainment\, Games and Prizes!!! Grand Prize-Bicycle and Helmet.\nMJ Fire and Police Departments will be answering questions and MJPD will be giving out packets for child identification.\nInformation and free screenings provided by:\nCentennial Pediatrics\, Precision Eye Care\, Snodgrass & King Dental\, TN Sports Medicine\, Optimal Health Chiropractic\, Amerigroup\, Allergy\, Asthma and Sinus Center and more! 
LOCATION:Mt. Juliet Centennial Pediatrics\, Mt. Juliet\, TN 37122
UID:e.2544.309
SEQUENCE:3
DTSTAMP:20260419T181400Z
URL:https://business.mjchamber.org/events/details/healthy-kids-fair-06-27-2012-309
END:VEVENT

END:VCALENDAR
