BEGIN:VCALENDAR
VERSION:2.0
PRODID:-//ChamberMaster//Event Calendar 2.0//EN
METHOD:PUBLISH
X-PUBLISHED-TTL:P3D
REFRESH-INTERVAL:P3D
CALSCALE:GREGORIAN
BEGIN:VEVENT
DTSTART:20211115T180000Z
DTEND:20211215T180000Z
X-MICROSOFT-CDO-ALLDAYEVENT:FALSE
SUMMARY:HEAT Gardening Seed Money Fundraiser
DESCRIPTION:Our gardening program\, HEAT (Healthy Eating At the Table) Gardening\, is participating in the #SeedMoneyChallenge\, a 30-day fundraising challenge and we could really use your support! In addition to keeping the funds we raise from individuals like you\, we have a chance to win a challenge grant of up to $1000 from SeedMoney based on how much we raise over the course of the 30-day period running from Nov 15 to Dec 15.  Click on the link to donate!
X-ALT-DESC;FMTTYPE=text/html:<span style="font-size:16px">Our gardening program\,&nbsp\;<strong>HEAT (Healthy Eating At the Table) Gardening\,</strong> is participating in the #SeedMoneyChallenge\, a 30-day fundraising challenge and we could really use your support! In addition to keeping the funds we raise from individuals like you\, we have a chance to win a challenge grant of up to $1000 from SeedMoney based on how much we raise over the course of the 30-day period running from Nov 15 to Dec 15.&nbsp\; Click on the link to donate!</span>
LOCATION:
UID:e.2544.10602
SEQUENCE:3
DTSTAMP:20260424T124207Z
URL:https://business.mjchamber.org/events/details/heat-gardening-seed-money-fundraiser-10602
END:VEVENT

END:VCALENDAR
