BEGIN:VCALENDAR
VERSION:2.0
PRODID:-//ChamberMaster//Event Calendar 2.0//EN
METHOD:PUBLISH
X-PUBLISHED-TTL:P3D
REFRESH-INTERVAL:P3D
CALSCALE:GREGORIAN
BEGIN:VEVENT
DTSTART:20211019T180000Z
DTEND:20211019T200000Z
X-MICROSOFT-CDO-ALLDAYEVENT:FALSE
SUMMARY:Hiring Event in Mt. Juliet
DESCRIPTION:Goodwill will host a Hiring Event for Sleep Inn Mainstay\, which is seeking to fill more than nine positions\, from 1-3 p.m. on Tuesday\, Oct. 19\, at the Goodwill Career Solutions Center at 1985 Providence Parkway in Mt. Juliet. Job-seekers are encouraged to pre-register for the event by visiting https://bit.ly/3dcFzLk or calling (615) 288-2389.
X-ALT-DESC;FMTTYPE=text/html:Goodwill will host a Hiring Event for Sleep Inn Mainstay\, which is seeking to fill more than nine positions\, from 1-3 p.m. on Tuesday\, Oct. 19\, at the Goodwill Career Solutions Center at 1985 Providence Parkway in Mt. Juliet. Job-seekers are encouraged to pre-register for the event by visiting https://bit.ly/3dcFzLk or calling (615) 288-2389.
LOCATION:1985 Providence Parkway in Mt. Juliet\, TN 37122
UID:e.2544.10328
SEQUENCE:3
DTSTAMP:20260424T161907Z
URL:https://business.mjchamber.org/events/details/hiring-event-in-mt-juliet-10-19-2021-10328
END:VEVENT

END:VCALENDAR
