BEGIN:VCALENDAR
VERSION:2.0
PRODID:-//ChamberMaster//Event Calendar 2.0//EN
METHOD:PUBLISH
X-PUBLISHED-TTL:P3D
REFRESH-INTERVAL:P3D
CALSCALE:GREGORIAN
BEGIN:VEVENT
DTSTART:20220209T180000Z
DTEND:20220209T200000Z
X-MICROSOFT-CDO-ALLDAYEVENT:FALSE
SUMMARY:Historic Commission Meeting
DESCRIPTION:The Historic Commission will meet at 12 noon at the Holiday Inn Express conference room to discuss action the Commission needs to take and to hear presentation by Earl Kennedy on Mt. Juliet and TN history. Bring an item of historic interest if you want. The old 1879 Hamilton Hill School house will be discussed.
X-ALT-DESC;FMTTYPE=text/html:The Historic Commission will meet at 12 noon at the Holiday Inn Express conference room to discuss action the Commission needs to take and to hear presentation by Earl Kennedy on Mt. Juliet and TN history. Bring an item of historic interest if you want. The old 1879 Hamilton Hill School house will be discussed.
LOCATION:Holliday Inn Express South Mt Juliet Road. Conference Room Snack provided
UID:e.2544.10870
SEQUENCE:3
DTSTAMP:20260424T085228Z
URL:https://business.mjchamber.org/events/details/historic-commission-meeting-10870
END:VEVENT

END:VCALENDAR
