BEGIN:VCALENDAR
VERSION:2.0
PRODID:-//ChamberMaster//Event Calendar 2.0//EN
METHOD:PUBLISH
X-PUBLISHED-TTL:P3D
REFRESH-INTERVAL:P3D
CALSCALE:GREGORIAN
BEGIN:VEVENT
DTSTART:20111119T150000Z
DTEND:20111119T210000Z
X-MICROSOFT-CDO-ALLDAYEVENT:FALSE
SUMMARY:Holiday Craft Fair
DESCRIPTION:Booths available ....just $35
X-ALT-DESC;FMTTYPE=text/html:Booths available ....just $35\n\n
LOCATION:2034 North Mt. Juliet Rd.\, Mt. Juliet\, TN 37122 Mt. Juliet Senior Activity Center 2034 North Mt. Juliet Road Mt. Juliet\, TN 37122
UID:e.2544.133
SEQUENCE:3
DTSTAMP:20260420T044930Z
URL:https://business.mjchamber.org/events/details/holiday-craft-fair-11-19-2011-133
END:VEVENT

END:VCALENDAR
