BEGIN:VCALENDAR
VERSION:2.0
PRODID:-//ChamberMaster//Event Calendar 2.0//EN
METHOD:PUBLISH
X-PUBLISHED-TTL:P3D
REFRESH-INTERVAL:P3D
CALSCALE:GREGORIAN
BEGIN:VEVENT
DTSTART;VALUE=DATE:20211015
DTEND;VALUE=DATE:20211114
TRANSP:TRANSPARENT
X-MICROSOFT-CDO-ALLDAYEVENT:TRUE
SUMMARY:Holiday Helping Hands
DESCRIPTION:Providing Thanksgiving meals to 100 families in the community. The event day is 11/13 but we are excepting donations now till 11/12. You can purchase a Turkey at Krogers Providence at the service desk. Tell them you are there for Jesus Provisions\, or drop off sides to the Center. We need: - Canned Vegetables - Boxed Mashed Potatoes - Box Mac n Cheese - Sticks of Butter - Stuffing Or give at www.jesusprovisions.org
X-ALT-DESC;FMTTYPE=text/html:Providing Thanksgiving meals to 100 families in the community. The event day is 11/13 but we are excepting donations now till 11/12. You can purchase a Turkey at Krogers Providence at the service desk. Tell them you are there for Jesus Provisions\, or drop off sides to the Center. We need: - Canned Vegetables - Boxed Mashed Potatoes - Box Mac n Cheese - Sticks of Butter - Stuffing Or give at www.jesusprovisions.org
LOCATION:Jesus Provisions Ministries and Care Center
UID:e.2544.10329
SEQUENCE:3
DTSTAMP:20260424T141011Z
URL:https://business.mjchamber.org/events/details/holiday-helping-hands-10329
END:VEVENT

END:VCALENDAR
