BEGIN:VCALENDAR
VERSION:2.0
PRODID:-//ChamberMaster//Event Calendar 2.0//EN
METHOD:PUBLISH
X-PUBLISHED-TTL:P3D
REFRESH-INTERVAL:P3D
CALSCALE:GREGORIAN
BEGIN:VEVENT
DTSTART:20220402T140000Z
DTEND:20220402T200000Z
X-MICROSOFT-CDO-ALLDAYEVENT:FALSE
SUMMARY:Hollistic Health Hop
DESCRIPTION:Did you know that there are dozens of holistic health resources located right here in Mount Juliet? This event was created for you to learn more about these businesses that serve our community\, so you can take back your health. Move from business to business to learn more about the amazing services these businesses can offer you. Plus\, there will be an opportunity to be entered into a Grand Prize drawing. Google Map: https://bit.ly/3ipCHy7
X-ALT-DESC;FMTTYPE=text/html:Did you know that there are dozens of holistic health resources located right here in Mount Juliet? This event was created for you to learn more about these businesses that serve our community\, so you can take back your health. Move from business to business to learn more about the amazing services these businesses can offer you. Plus\, there will be an opportunity to be entered into a Grand Prize drawing. Google Map: https://bit.ly/3ipCHy7
LOCATION:Google Map: https://bit.ly/3ipCHy7 14 different businesses located throughout Mt Juliet
UID:e.2544.10973
SEQUENCE:3
DTSTAMP:20260424T050551Z
URL:https://business.mjchamber.org/events/details/hollistic-health-hop-10973
END:VEVENT

END:VCALENDAR
