BEGIN:VCALENDAR
VERSION:2.0
PRODID:-//ChamberMaster//Event Calendar 2.0//EN
METHOD:PUBLISH
X-PUBLISHED-TTL:P3D
REFRESH-INTERVAL:P3D
CALSCALE:GREGORIAN
BEGIN:VEVENT
DTSTART:20210422T230000Z
DTEND:20210423T010000Z
X-MICROSOFT-CDO-ALLDAYEVENT:FALSE
SUMMARY:Houses of Hope
DESCRIPTION:Drive- in event to fund affordable housing in the Wilson County community. Boxed dinner\, presentation\, and live entertainment by Sweetn3
X-ALT-DESC;FMTTYPE=text/html:Drive- in event to fund affordable housing in the Wilson County community. Boxed dinner\, presentation\, and live entertainment by Sweetn3
LOCATION:Collage Hills Church of Christ
UID:e.2544.9299
SEQUENCE:3
DTSTAMP:20260424T113411Z
URL:https://business.mjchamber.org/events/details/houses-of-hope-9299
END:VEVENT

END:VCALENDAR
