BEGIN:VCALENDAR
VERSION:2.0
PRODID:-//ChamberMaster//Event Calendar 2.0//EN
METHOD:PUBLISH
X-PUBLISHED-TTL:P3D
REFRESH-INTERVAL:P3D
CALSCALE:GREGORIAN
BEGIN:VEVENT
DTSTART:20120428T003000Z
DTEND:20120428T003000Z
X-MICROSOFT-CDO-ALLDAYEVENT:FALSE
SUMMARY:I Hate Hamlet
DESCRIPTION:ENCORE THEATRE COMPANY presents I HATE HAMLET\, an engaging  comedy written Paul Rudnik and directed by Bowd Beal.\nThe ghost of John Barrymore is the central character in this hilarious tale of how a young actor rises above his fear and loathing of playing the role of Hamlet. The fun begins when the young actor discovers that his apartment is haunted by the ghost of Barrymore\, who comes back from the grave to dispense advice on Shakespearean acting\, not to mention life and love.\nPerformances are April 27 through May 12\, Friday thru Sunday. Friday-Saturdays at 7:30pm\, Sundays at 2:30pm. \nTickets are $15 for Adults\, $12 for Seniors/Members\, $10 for Children under 12 and can be reserved by calling 615-598-8950 or purchased at the door or on our website www.encore-theatre-company.org\nEncore Theatre Company located at 6978 Lebanon Rd in Mount Juliet is a non-profit community theatre serving Wilson County and surrounding areas.
X-ALT-DESC;FMTTYPE=text/html:ENCORE THEATRE COMPANY presents I HATE HAMLET\, an engaging  comedy written Paul Rudnik and directed by Bowd Beal.\nThe ghost of John Barrymore is the central character in this hilarious tale of how a young actor rises above his fear and loathing of playing the role of Hamlet. The fun begins when the young actor discovers that his apartment is haunted by the ghost of Barrymore\, who comes back from the grave to dispense advice on Shakespearean acting\, not to mention life and love.\nPerformances are April 27 through May 12\, Friday thru Sunday. Friday-Saturdays at 7:30pm\, Sundays at 2:30pm. \nTickets are $15 for Adults\, $12 for Seniors/Members\, $10 for Children under 12 and can be reserved by calling 615-598-8950 or purchased at the door or on our website www.encore-theatre-company.org\nEncore Theatre Company located at 6978 Lebanon Rd in Mount Juliet is a non-profit community theatre serving Wilson County and surrounding areas.\n
LOCATION:6978 Lebanon Road\, Mt Juliet\, TN 37122 Encore Theatre performance venue is located on Lebanon Rd\, just 1/4 mile west of Hwy 109
UID:e.2544.267
SEQUENCE:3
DTSTAMP:20260419T195819Z
URL:https://business.mjchamber.org/events/details/i-hate-hamlet-04-27-2012-267
END:VEVENT

END:VCALENDAR
