BEGIN:VCALENDAR
VERSION:2.0
PRODID:-//ChamberMaster//Event Calendar 2.0//EN
METHOD:PUBLISH
X-PUBLISHED-TTL:P3D
REFRESH-INTERVAL:P3D
CALSCALE:GREGORIAN
BEGIN:VEVENT
DTSTART:20220421T233000Z
DTEND:20220422T013000Z
X-MICROSOFT-CDO-ALLDAYEVENT:FALSE
SUMMARY:Imagination Dinner Fundraiser for Wilson Books from Birth
DESCRIPTION:Join us & help support Wilson Books from Birth & Dolly Parton's Imagination Library. Dinner | Door Prizes | Live & Silent Auctions
X-ALT-DESC;FMTTYPE=text/html:Join us &amp\; help support Wilson Books from Birth &amp\; Dolly Parton&#39\;s Imagination Library. Dinner | Door Prizes | Live &amp\; Silent Auctions
LOCATION:Wilson County Expo Center 945 E Baddour Pkwy\, Lebanon\, TN 37087
UID:e.2544.10978
SEQUENCE:3
DTSTAMP:20260424T050423Z
URL:https://business.mjchamber.org/events/details/imagination-dinner-fundraiser-for-wilson-books-from-birth-10978
END:VEVENT

END:VCALENDAR
