BEGIN:VCALENDAR
VERSION:2.0
PRODID:-//ChamberMaster//Event Calendar 2.0//EN
METHOD:PUBLISH
X-PUBLISHED-TTL:P3D
REFRESH-INTERVAL:P3D
CALSCALE:GREGORIAN
BEGIN:VEVENT
DTSTART:20210706T190000Z
DTEND:20210706T210000Z
X-MICROSOFT-CDO-ALLDAYEVENT:FALSE
SUMMARY:In-Person Hiring Event for Abacus Staffing
DESCRIPTION:Goodwill will host a Hiring Event for Abacus Staffing\, which is seeking to fill 100 positions\, from 2-4 p.m. on Tuesday\, July 6\, at the Goodwill Career Solutions Center at 1985 Providence Parkway in Mt. Juliet. Job-seekers are encouraged to pre-register for the event by visiting https://bit.ly/3dcFzLk or calling (615) 288-2389. Use this link to attend the job fair via Zoom (after you have pre-registered): https://bit.ly/3h963Bk
X-ALT-DESC;FMTTYPE=text/html:Goodwill will host a Hiring Event for Abacus Staffing\, which is seeking to fill 100 positions\, from 2-4 p.m. on Tuesday\, July 6\, at the Goodwill Career Solutions Center at 1985 Providence Parkway in Mt. Juliet. Job-seekers are encouraged to pre-register for the event by visiting https://bit.ly/3dcFzLk or calling (615) 288-2389. Use this link to attend the job fair via Zoom (after you have pre-registered): https://bit.ly/3h963Bk
LOCATION:Goodwill Career Solutions Center at 1985 Providence Parkway in Mt. Juliet.
UID:e.2544.10112
SEQUENCE:3
DTSTAMP:20260424T165125Z
URL:https://business.mjchamber.org/events/details/in-person-hiring-event-for-abacus-staffing-10112
END:VEVENT

END:VCALENDAR
