BEGIN:VCALENDAR
VERSION:2.0
PRODID:-//ChamberMaster//Event Calendar 2.0//EN
METHOD:PUBLISH
X-PUBLISHED-TTL:P3D
REFRESH-INTERVAL:P3D
CALSCALE:GREGORIAN
BEGIN:VEVENT
DTSTART:20210727T180000Z
DTEND:20210727T200000Z
X-MICROSOFT-CDO-ALLDAYEVENT:FALSE
SUMMARY:In-Person Hiring Event for ABC Technologies
DESCRIPTION:Goodwill will host a Hiring Event for ABC Technologies\, which is seeking to fill 14 positions\, from 1 p.m. to 3 p.m. on Tuesday\, July 27\, at the Goodwill Career Solutions Center at 1985 Providence Parkway in Mt. Juliet. Job-seekers are encouraged to pre-register for the event by visiting https://bit.ly/3dcFzLk or calling (615) 288-2389.
X-ALT-DESC;FMTTYPE=text/html:Goodwill will host a Hiring Event for ABC Technologies\, which is seeking to fill 14 positions\, from 1 p.m. to 3 p.m. on Tuesday\, July 27\, at the Goodwill Career Solutions Center at 1985 Providence Parkway in Mt. Juliet. Job-seekers are encouraged to pre-register for the event by visiting https://bit.ly/3dcFzLk or calling (615) 288-2389.
LOCATION:Goodwill Career Solutions Center at 1985 Providence Parkway in Mt. Juliet.
UID:e.2544.10146
SEQUENCE:3
DTSTAMP:20260424T164111Z
URL:https://business.mjchamber.org/events/details/in-person-hiring-event-for-abc-technologies-10146
END:VEVENT

END:VCALENDAR
