BEGIN:VCALENDAR
VERSION:2.0
PRODID:-//ChamberMaster//Event Calendar 2.0//EN
METHOD:PUBLISH
X-PUBLISHED-TTL:P3D
REFRESH-INTERVAL:P3D
CALSCALE:GREGORIAN
BEGIN:VEVENT
DTSTART:20210728T180000Z
DTEND:20210728T200000Z
X-MICROSOFT-CDO-ALLDAYEVENT:FALSE
SUMMARY:In-Person Hiring Event for Goodwill
DESCRIPTION:A hiring event will be held for Goodwill Industries of Middle Tennessee\, which is seeking to fill more than 10 positions\, from 1 p.m.-3 p.m. on Wednesday\, July 28\, at the Goodwill Career Solutions Center at 1985 Providence Parkway in Mt. Juliet.
X-ALT-DESC;FMTTYPE=text/html:A hiring event will be held for Goodwill Industries of Middle Tennessee\, which is seeking to fill more than 10 positions\, from 1 p.m.-3 p.m. on Wednesday\, July 28\, at the Goodwill Career Solutions Center at 1985 Providence Parkway in Mt. Juliet.
LOCATION:Goodwill Career Solutions Center at 1985 Providence Parkway in Mt. Juliet.
UID:e.2544.10145
SEQUENCE:3
DTSTAMP:20260424T165004Z
URL:https://business.mjchamber.org/events/details/in-person-hiring-event-for-goodwill-10145
END:VEVENT

END:VCALENDAR
