BEGIN:VCALENDAR
VERSION:2.0
PRODID:-//ChamberMaster//Event Calendar 2.0//EN
METHOD:PUBLISH
X-PUBLISHED-TTL:P3D
REFRESH-INTERVAL:P3D
CALSCALE:GREGORIAN
BEGIN:VEVENT
DTSTART:20210831T180000Z
DTEND:20210831T200000Z
X-MICROSOFT-CDO-ALLDAYEVENT:FALSE
SUMMARY:In-Person Hiring Event in Mt. Juliet
DESCRIPTION:Goodwill will host a Job Fair for FedEx\, Partners Personnel\, & Randstad\, which are seeking to fill more than 500 positions\, from 1-3 p.m. on Tuesday\, Aug. 31\, at the Goodwill Career Solutions Center at 1985 Providence Parkway in Mt. Juliet. Job-seekers are encouraged to pre-register for the event by visiting https://bit.ly/3dcFzLk or calling (615) 288-2389. (500+ Openings)
X-ALT-DESC;FMTTYPE=text/html:Goodwill will host a Job Fair for FedEx\, Partners Personnel\, &amp\; Randstad\, which are seeking to fill more than 500 positions\, from 1-3 p.m. on Tuesday\, Aug. 31\, at the Goodwill Career Solutions Center at 1985 Providence Parkway in Mt. Juliet. Job-seekers are encouraged to pre-register for the event by visiting https://bit.ly/3dcFzLk or calling (615) 288-2389. (500+ Openings)
LOCATION:1985 Providence Parkway in Mt. Juliet
UID:e.2544.10234
SEQUENCE:3
DTSTAMP:20260424T182541Z
URL:https://business.mjchamber.org/events/details/in-person-hiring-event-in-mt-juliet-10234
END:VEVENT

END:VCALENDAR
