BEGIN:VCALENDAR
VERSION:2.0
PRODID:-//ChamberMaster//Event Calendar 2.0//EN
METHOD:PUBLISH
X-PUBLISHED-TTL:P3D
REFRESH-INTERVAL:P3D
CALSCALE:GREGORIAN
BEGIN:VEVENT
DTSTART:20220709T140000Z
DTEND:20220709T200000Z
X-MICROSOFT-CDO-ALLDAYEVENT:FALSE
SUMMARY:It's A Luau Christmas In July Craft Fair
DESCRIPTION:MJ Vendor & Craft Fair to benefit Give A Little Christmas- kid-friendly
X-ALT-DESC;FMTTYPE=text/html:MJ Vendor &amp\; Craft Fair to benefit Give A Little Christmas- kid-friendly
LOCATION:Mt Juliet Community Center
UID:e.2544.11536
SEQUENCE:3
DTSTAMP:20260423T231908Z
URL:https://business.mjchamber.org/events/details/it-s-a-luau-christmas-in-july-craft-fair-11536
END:VEVENT

END:VCALENDAR
