BEGIN:VCALENDAR
VERSION:2.0
PRODID:-//ChamberMaster//Event Calendar 2.0//EN
METHOD:PUBLISH
X-PUBLISHED-TTL:P3D
REFRESH-INTERVAL:P3D
CALSCALE:GREGORIAN
BEGIN:VEVENT
DTSTART:20210429T230000Z
DTEND:20210430T010000Z
X-MICROSOFT-CDO-ALLDAYEVENT:FALSE
SUMMARY:It's Always Christmas
DESCRIPTION:It's Always Christmas with Give A Little Christmas at TJ Courtney's Restaurant & Catering I know it's only April but elves work year round.
X-ALT-DESC;FMTTYPE=text/html:It&#39\;s Always Christmas with Give A Little Christmas at TJ Courtney&#39\;s Restaurant &amp\; Catering I know it&#39\;s only April but elves work year round.
LOCATION:TJ Courtney's Restaurant & Catering 4066 N Mt Juliet RD Mt Juliet TN 37122
UID:e.2544.9637
SEQUENCE:3
DTSTAMP:20260424T113146Z
URL:https://business.mjchamber.org/events/details/it-s-always-christmas-9637
END:VEVENT

END:VCALENDAR
