BEGIN:VCALENDAR
VERSION:2.0
PRODID:-//ChamberMaster//Event Calendar 2.0//EN
METHOD:PUBLISH
X-PUBLISHED-TTL:P3D
REFRESH-INTERVAL:P3D
CALSCALE:GREGORIAN
BEGIN:VEVENT
DTSTART:20211014T160000Z
DTEND:20211014T233000Z
X-MICROSOFT-CDO-ALLDAYEVENT:FALSE
SUMMARY:Jacque Benton Memorial Spaghetti Days 2021
DESCRIPTION:Jacque Benton Memorial Spaghetti Days 2021. Fundraiser for the Mount Juliet Senior Activity Center sponsored by the Breakfast Rotary Club. Please contact the center to purchase tickets.
X-ALT-DESC;FMTTYPE=text/html:Jacque Benton Memorial Spaghetti Days 2021. Fundraiser for the Mount Juliet Senior Activity Center sponsored by the Breakfast Rotary Club. Please contact the center to purchase tickets.
LOCATION:Mount Juliet Senior Activity Center 2034 N. Mount Juliet Rd.
UID:e.2544.10317
SEQUENCE:3
DTSTAMP:20260424T161705Z
URL:https://business.mjchamber.org/events/details/jacque-benton-memorial-spaghetti-days-2021-10-14-2021-10317
END:VEVENT

END:VCALENDAR
