BEGIN:VCALENDAR
VERSION:2.0
PRODID:-//ChamberMaster//Event Calendar 2.0//EN
METHOD:PUBLISH
X-PUBLISHED-TTL:P3D
REFRESH-INTERVAL:P3D
CALSCALE:GREGORIAN
BEGIN:VEVENT
DTSTART:20211015T160000Z
DTEND:20211015T233000Z
X-MICROSOFT-CDO-ALLDAYEVENT:FALSE
SUMMARY:Jacque Benton Memorial Spaghetti Days 2021
DESCRIPTION:Jacque Benton Memorial Spaghetti Days sponsored by the Breakfast Rotary Club. Fundraiser for the senior center.
X-ALT-DESC;FMTTYPE=text/html:Jacque Benton Memorial Spaghetti Days sponsored by the Breakfast Rotary Club. Fundraiser for the senior center.
LOCATION:Mount Juliet Senior Activity Center 2034 N. Mount Juliet Rd.
UID:e.2544.10316
SEQUENCE:3
DTSTAMP:20260424T161511Z
URL:https://business.mjchamber.org/events/details/jacque-benton-memorial-spaghetti-days-2021-10316
END:VEVENT

END:VCALENDAR
