BEGIN:VCALENDAR
VERSION:2.0
PRODID:-//ChamberMaster//Event Calendar 2.0//EN
METHOD:PUBLISH
X-PUBLISHED-TTL:P3D
REFRESH-INTERVAL:P3D
CALSCALE:GREGORIAN
BEGIN:VEVENT
DTSTART:20220411T170000Z
DTEND:20220411T210000Z
X-MICROSOFT-CDO-ALLDAYEVENT:FALSE
SUMMARY:Job Fair
DESCRIPTION:Job Fair with over 20 Employers. There will be giveaways and free food!
X-ALT-DESC;FMTTYPE=text/html:Job Fair with over 20 Employers. There will be giveaways and free food!
LOCATION:Wilson County Fairgrounds EAST/WEST Building 945 East Baddour Pky Lebanon\, TN 37087
UID:e.2544.10980
SEQUENCE:3
DTSTAMP:20260424T050422Z
URL:https://business.mjchamber.org/events/details/job-fair-04-11-2022-10980
END:VEVENT

END:VCALENDAR
