BEGIN:VCALENDAR
VERSION:2.0
PRODID:-//ChamberMaster//Event Calendar 2.0//EN
METHOD:PUBLISH
X-PUBLISHED-TTL:P3D
REFRESH-INTERVAL:P3D
CALSCALE:GREGORIAN
BEGIN:VEVENT
DTSTART:20211207T190000Z
DTEND:20211207T210000Z
X-MICROSOFT-CDO-ALLDAYEVENT:FALSE
SUMMARY:Job Fair in Lebanon
DESCRIPTION:Goodwill will host a Job Fair for nine employers\, which is seeking to fill 300 positions\, from 1 p.m. to 3 p.m. on Tuesday\, December 7\, at the Compassionate Hands at 214 N. College Street in Lebanon. Job-seekers are encouraged to pre-register for the event by visiting https://bit.ly/3dcFzLk or calling (931) 241-4730. (9+Employers): Amazon\, Recruit Specialized Staffing\, Moldex-Metric\, Inc.\, Partners Personnel\, Quick Trip\, HireLevel\, Wood Personnel\, Neighborhood Connections\, and Operation Hope.
X-ALT-DESC;FMTTYPE=text/html:Goodwill will host a Job Fair for nine employers\, which is seeking to fill 300 positions\, from 1 p.m. to 3 p.m. on Tuesday\, December 7\, at the Compassionate Hands at 214 N. College Street in Lebanon. Job-seekers are encouraged to pre-register for the event by visiting https://bit.ly/3dcFzLk or calling (931) 241-4730. (9+Employers): Amazon\, Recruit Specialized Staffing\, Moldex-Metric\, Inc.\, Partners Personnel\, Quick Trip\, HireLevel\, Wood Personnel\, Neighborhood Connections\, and Operation Hope.
LOCATION:Compassionate Hands at 214 N. College Street in Lebanon.
UID:e.2544.10636
SEQUENCE:3
DTSTAMP:20260424T123333Z
URL:https://business.mjchamber.org/events/details/job-fair-in-lebanon-10636
END:VEVENT

END:VCALENDAR
