BEGIN:VCALENDAR
VERSION:2.0
PRODID:-//ChamberMaster//Event Calendar 2.0//EN
METHOD:PUBLISH
X-PUBLISHED-TTL:P3D
REFRESH-INTERVAL:P3D
CALSCALE:GREGORIAN
BEGIN:VEVENT
DTSTART:20220324T160000Z
DTEND:20220325T200000Z
X-MICROSOFT-CDO-ALLDAYEVENT:FALSE
SUMMARY:Job Fair in Mt. Juliet
DESCRIPTION:Job Fair in Mt. Juliet A hiring event will be held for 7-Eleven. Which is seeking to fill more than 40 positions\, from 11 a.m.- 3 p.m. on Thursday and Friday\, March 24th & 25th at the Goodwill Career Solutions Center at 1985 Providence Parkway in Mt. Juliet. Job-seekers are encouraged to pre-register for the event by visiting https://bit.ly/3dcFzLk or calling (615) 288-2389. (40+ Openings): Store manager\, assistant store manager\, retail associates\, restaurant associates\, maintenance\, and cashiers. Up to $17 per hour (Pay varies on experience) On-the-spot interviews and job offers!
X-ALT-DESC;FMTTYPE=text/html:Job Fair in Mt. Juliet A hiring event will be held for 7-Eleven. Which is seeking to fill more than 40 positions\, from 11 a.m.- 3 p.m. on Thursday and Friday\, March 24th &amp\; 25th at the Goodwill Career Solutions Center at 1985 Providence Parkway in Mt. Juliet. Job-seekers are encouraged to pre-register for the event by visiting https://bit.ly/3dcFzLk or calling (615) 288-2389. (40+ Openings): Store manager\, assistant store manager\, retail associates\, restaurant associates\, maintenance\, and cashiers. Up to $17 per hour (Pay varies on experience) On-the-spot interviews and job offers!
LOCATION:1985 Providence Parkway in Mt. Juliet
UID:e.2544.10970
SEQUENCE:3
DTSTAMP:20260424T071552Z
URL:https://business.mjchamber.org/events/details/job-fair-in-mt-juliet-03-24-2022-10970
END:VEVENT

END:VCALENDAR
