BEGIN:VCALENDAR
VERSION:2.0
PRODID:-//ChamberMaster//Event Calendar 2.0//EN
METHOD:PUBLISH
X-PUBLISHED-TTL:P3D
REFRESH-INTERVAL:P3D
CALSCALE:GREGORIAN
BEGIN:VEVENT
DTSTART:20210914T180000Z
DTEND:20210914T200000Z
X-MICROSOFT-CDO-ALLDAYEVENT:FALSE
SUMMARY:Job Fair in Mt. Juliet
DESCRIPTION:Goodwill will host a Job Fair for Bargain Hunt and Goodwill Industries of Middle Tennessee\, which are seeking to fill more than 20 positions\, from 1-3 p.m. on Tuesday\, Sept. 14\, at the Goodwill Career Solutions Center at 1985 Providence Parkway in Mt. Juliet. Job-seekers are encouraged to pre-register for the event by visiting https://bit.ly/3dcFzLk or calling (615) 288-2389.
X-ALT-DESC;FMTTYPE=text/html:Goodwill will host a Job Fair for Bargain Hunt and Goodwill Industries of Middle Tennessee\, which are seeking to fill more than 20 positions\, from 1-3 p.m. on Tuesday\, Sept. 14\, at the Goodwill Career Solutions Center at 1985 Providence Parkway in Mt. Juliet. Job-seekers are encouraged to pre-register for the event by visiting https://bit.ly/3dcFzLk or calling (615) 288-2389.
LOCATION:Goodwill Career Solutions Center at 1985 Providence Parkway in Mt. Juliet\, TN.
UID:e.2544.10265
SEQUENCE:3
DTSTAMP:20260424T175953Z
URL:https://business.mjchamber.org/events/details/job-fair-in-mt-juliet-09-14-2021-10265
END:VEVENT

END:VCALENDAR
