BEGIN:VCALENDAR
VERSION:2.0
PRODID:-//ChamberMaster//Event Calendar 2.0//EN
METHOD:PUBLISH
X-PUBLISHED-TTL:P3D
REFRESH-INTERVAL:P3D
CALSCALE:GREGORIAN
BEGIN:VEVENT
DTSTART:20211005T180000Z
DTEND:20211005T200000Z
X-MICROSOFT-CDO-ALLDAYEVENT:FALSE
SUMMARY:Job Fair in Mt. Juliet
DESCRIPTION:Goodwill will host a Virtual Job Fair event for Houston's Meat and Produce & Sleep Inn Mainstay\, which are seeking to fill 15 positions\, from 1-3 p.m. on Tuesday\, Oct. 5\, at the Goodwill Career Solutions Center at 1985 Providence Parkway in Mt. Juliet. Job-seekers are encouraged to pre-register for the event by visiting https://bit.ly/3dcFzLk or calling (615) 288-2389.
X-ALT-DESC;FMTTYPE=text/html:Goodwill will host a Virtual Job Fair event for Houston&#39\;s Meat and Produce &amp\; Sleep Inn Mainstay\, which are seeking to fill 15 positions\, from 1-3 p.m. on Tuesday\, Oct. 5\, at the Goodwill Career Solutions Center at 1985 Providence Parkway in Mt. Juliet. Job-seekers are encouraged to pre-register for the event by visiting https://bit.ly/3dcFzLk or calling (615) 288-2389.
LOCATION:1985 Providence Parkway in Mt. Juliet
UID:e.2544.10298
SEQUENCE:3
DTSTAMP:20260424T162005Z
URL:https://business.mjchamber.org/events/details/job-fair-in-mt-juliet-10-05-2021-10298
END:VEVENT

END:VCALENDAR
