BEGIN:VCALENDAR
VERSION:2.0
PRODID:-//ChamberMaster//Event Calendar 2.0//EN
METHOD:PUBLISH
X-PUBLISHED-TTL:P3D
REFRESH-INTERVAL:P3D
CALSCALE:GREGORIAN
BEGIN:VEVENT
DTSTART:20211102T180000Z
DTEND:20211102T200000Z
X-MICROSOFT-CDO-ALLDAYEVENT:FALSE
SUMMARY:Job Fair in Mt. Juliet
DESCRIPTION:Goodwill will host a Job Fair for three employers\, which are seeking to fill more than 500 positions\, from 1-3 p.m. on Tuesday\, Nov. 2\, at the Goodwill Career Solutions Center at 1985 Providence Parkway in Mt Juliet. Job-seekers are encouraged to pre-register for the event by visiting https://bit.ly/3dcFzLk or calling (615) 288-2389. Employers Middle Tennessee Mental Health Institute\, Allied Universal and Contemporary Services Corporation
X-ALT-DESC;FMTTYPE=text/html:Goodwill will host a Job Fair for three employers\, which are seeking to fill more than 500 positions\, from 1-3 p.m. on Tuesday\, Nov. 2\, at the Goodwill Career Solutions Center at 1985 Providence Parkway in Mt Juliet. Job-seekers are encouraged to pre-register for the event by visiting https://bit.ly/3dcFzLk or calling (615) 288-2389. Employers Middle Tennessee Mental Health Institute\, Allied Universal and Contemporary Services Corporation
LOCATION:Mt. Juliet Goodwill Career Solutions 1985 Providence West Parkway Mt. Juliet\, TN 37122
UID:e.2544.10370
SEQUENCE:3
DTSTAMP:20260424T162718Z
URL:https://business.mjchamber.org/events/details/job-fair-in-mt-juliet-11-02-2021-10370
END:VEVENT

END:VCALENDAR
