BEGIN:VCALENDAR
VERSION:2.0
PRODID:-//ChamberMaster//Event Calendar 2.0//EN
METHOD:PUBLISH
X-PUBLISHED-TTL:P3D
REFRESH-INTERVAL:P3D
CALSCALE:GREGORIAN
BEGIN:VEVENT
DTSTART:20120120T003000Z
DTEND:20120120T013000Z
X-MICROSOFT-CDO-ALLDAYEVENT:FALSE
SUMMARY:Kids Community Health Fair
DESCRIPTION:Exercise Your Mind and Body!!!\nDrawings for door prizes\, gift certificates and the grand prize of a boys \nbike and girls bike!\nEat Well\, Move Well dinner option is presented by Dr. Rhett Bruner and includes a healthy taco bar from Salsaritas.  Great information for \nboth parents and kids\, including trivia questions and more!  RSVP is required- $4 per person
X-ALT-DESC;FMTTYPE=text/html:Exercise Your Mind and Body!!!\nDrawings for door prizes\, gift certificates and the grand prize of a boys \nbike and girls bike!\nEat Well\, Move Well dinner option is presented by Dr. Rhett Bruner and includes a healthy taco bar from Salsaritas.  Great information for \nboth parents and kids\, including trivia questions and more!  RSVP is required- $4 per person 
LOCATION:9315 Lebanon Road Tennessee\, Mt. Juliet\, TN 37122 West Wilson Elementary Gymnasium
UID:e.2544.222
SEQUENCE:3
DTSTAMP:20260420T011335Z
URL:https://business.mjchamber.org/events/details/kids-community-health-fair-01-19-2012-222
END:VEVENT

END:VCALENDAR
