BEGIN:VCALENDAR
VERSION:2.0
PRODID:-//ChamberMaster//Event Calendar 2.0//EN
METHOD:PUBLISH
X-PUBLISHED-TTL:P3D
REFRESH-INTERVAL:P3D
CALSCALE:GREGORIAN
BEGIN:VEVENT
DTSTART:20120616T150000Z
DTEND:20120616T190000Z
X-MICROSOFT-CDO-ALLDAYEVENT:FALSE
SUMMARY:Kids on the Corner Festival
DESCRIPTION:KIDS ON THE CORNER FESTIVAL!\nSaturday\, June 16th\n10 am – 2 pm\nOn the Corner of \nN. Mt. Juliet Rd & W Caldwell St.\nFree:\nLive Music\nFace Painting\nInflatable Games\nPony Rides 10 am – 12 pm\nIce Cream & SnoCones\nPhotos available by Moments by Moser\nDrawing for Door Prizes\n\nCome help us Re-discover N. Mt. Juliet!
X-ALT-DESC;FMTTYPE=text/html:KIDS ON THE CORNER FESTIVAL!\nSaturday\, June 16th\n10 am – 2 pm\nOn the Corner of \nN. Mt. Juliet Rd & W Caldwell St.\nFree:\nLive Music\nFace Painting\nInflatable Games\nPony Rides 10 am – 12 pm\nIce Cream & SnoCones\nPhotos available by Moments by Moser\nDrawing for Door Prizes\n\nCome help us Re-discover N. Mt. Juliet!\n
LOCATION:2334 North Mount Juliet Rd\, Mount Juliet\, TN 37122 On the corner of North Mount Juliet Road and W. Caldwell ST
UID:e.2544.304
SEQUENCE:3
DTSTAMP:20260419T182244Z
URL:https://business.mjchamber.org/events/details/kids-on-the-corner-festival-06-16-2012-304
END:VEVENT

END:VCALENDAR
